BEGIN:VCALENDAR
VERSION:2.0
PRODID:-//TYPO3/NONSGML News system (news)//EN
BEGIN:VEVENT
TZID:Central Europe Standard Time
UID:news-62890@unimusik.tu-dortmund.de
DTSTAMP:20260417T105114Z

DTSTART:20260717T193000
DTEND:20260717T210000


LOCATION:Propsteikirche Dortmund, Propsteihof 2-3, 44137 Dortmund

DESCRIPTION:https://unimusik.tu-dortmund.de/veranstaltungsdetail/dortmunder-orgelsommer-62890/
SUMMARY:Dortmunder Orgelsommer
END:VEVENT
END:VCALENDAR
