BEGIN:VCALENDAR
VERSION:2.0
PRODID:-//TYPO3/NONSGML News system (news)//EN
BEGIN:VEVENT
TZID:Central Europe Standard Time
UID:news-61224@unimusik.tu-dortmund.de
DTSTAMP:20260309T125013Z

DTSTART:20260618T180000
DTEND:20260618T180000


LOCATION:Emil-Figge-Bibliothek der Technischen Universität Dortmund, Emil-Figge-Straße 50, 44227 Dortmund

DESCRIPTION:https://unimusik.tu-dortmund.de/veranstaltungsdetail/lesung-us-amerikanischer-klassiker-mit-dem-dortmunder-schauspiel-ensemble-61224/
SUMMARY:Lesung US-amerikanischer Klassiker mit dem Dortmunder Schauspiel-Ensemble
END:VEVENT
END:VCALENDAR
