BEGIN:VCALENDAR
VERSION:2.0
PRODID:-//TYPO3/NONSGML News system (news)//EN
BEGIN:VEVENT
TZID:Central Europe Standard Time
UID:news-61221@unimusik.tu-dortmund.de
DTSTAMP:20260309T131649Z

DTSTART:20260528T193000
DTEND:20260528T193000


LOCATION:Literaturhaus Dortmund, Neuer Graben 78, 44139 Dortmund

DESCRIPTION:https://unimusik.tu-dortmund.de/veranstaltungsdetail/lesung-im-literaturhaus-dortmund-zu-amerikas-demokratie-61221/
SUMMARY:Lesung im Literaturhaus Dortmund zu „Amerikas Demokratie“ 
END:VEVENT
END:VCALENDAR
