BEGIN:VCALENDAR
VERSION:2.0
PRODID:-//TYPO3/NONSGML News system (news)//EN
BEGIN:VEVENT
TZID:Central Europe Standard Time
UID:news-61222@unimusik.tu-dortmund.de
DTSTAMP:20260309T125724Z

DTSTART:20260610T170000
DTEND:20260610T170000


LOCATION:Internationales Begegnungszentrum der TU Dortmund, Emil-Figge-Straße 59, 44227 Dortmund

DESCRIPTION:https://unimusik.tu-dortmund.de/veranstaltungsdetail/praesentation-des-lyrikbands-beyond-this-forest-jenseits-dieses-waldes-61222/
SUMMARY:Präsentation des Lyrikbands „Beyond This Forest / Jenseits dieses Waldes“
END:VEVENT
END:VCALENDAR
