BEGIN:VCALENDAR
VERSION:2.0
PRODID:-//TYPO3/NONSGML News system (news)//EN
BEGIN:VEVENT
TZID:Central Europe Standard Time
UID:news-62886@unimusik.tu-dortmund.de
DTSTAMP:20260417T094436Z

DTSTART:20260710T193000
DTEND:20260710T220000


LOCATION:Audimax der TU Dortmund, Vogelpothsweg 87, 44227 Dortmund

DESCRIPTION:https://unimusik.tu-dortmund.de/veranstaltungsdetail/deep-rivers-forbidden-seas-fluesse-und-meere-in-der-musik-62886/
SUMMARY:Deep Rivers, Forbidden Seas – Flüsse und Meere in der Musik
END:VEVENT
END:VCALENDAR
