BEGIN:VCALENDAR
VERSION:2.0
PRODID:-//TYPO3/NONSGML News system (news)//EN
BEGIN:VEVENT
TZID:Central Europe Standard Time
UID:news-62887@unimusik.tu-dortmund.de
DTSTAMP:20260417T094859Z

DTSTART:20260711T190000
DTEND:20260711T212000


LOCATION:Audimax der TU Dortmund, Vogelpothsweg 87, 44227 Dortmund

DESCRIPTION:https://unimusik.tu-dortmund.de/veranstaltungsdetail/energie-62887/
SUMMARY:Energie!
END:VEVENT
END:VCALENDAR
