BEGIN:VCALENDAR
VERSION:2.0
PRODID:-//TYPO3/NONSGML News system (news)//EN
BEGIN:VEVENT
TZID:Central Europe Standard Time
UID:news-62056@unimusik.tu-dortmund.de
DTSTAMP:20260417T105800Z

DTSTART:20260704T140000
DTEND:20260704T153000


LOCATION:Rathaus Dortmund, Friedensplatz 1, 44135 Dortmund

DESCRIPTION:https://unimusik.tu-dortmund.de/veranstaltungsdetail/townhall-concert-america250-62056/
SUMMARY:Townhall-Concert USA@250
END:VEVENT
END:VCALENDAR
